BEGIN:VCALENDAR
VERSION:2.0
CALSCALE:GREGORIAN
BEGIN:VEVENT
SUMMARY:ONLINE - Light Within: A Summer Solstice Yoga Nidra
DTSTART;TZID=America/New_York:20250617T190000
DTEND;TZID=America/New_York:20250617T200000
LOCATION:5 Hanson St
DESCRIPTION: A Guided Rest Practice to Honor the Turning of the Light. You&amp;#039;re invited to pause and soften with us as we mark the Summer Solstice—the longest day of the year and a sacred moment of brightness, transition, and reflection.

In this trauma-informed Yoga Nidra practice, we’ll explore the inner light that remains steady, even as the seasons shift around us. Through guided rest, breath awareness, and gentle visualization, you’ll be supported in accessing deep relaxation and spacious inner connection.

✨ No prior experience with Yoga Nidra is needed
✨ A perfect way to honor the solstice with quiet ceremony and care

Let this be your invitation to turn inward and reconnect with the light within you—steady, wise, and always present.
STATUS:CONFIRMED
SEQUENCE:0
END:VEVENT
END:VCALENDAR