BEGIN:VCALENDAR
VERSION:2.0
CALSCALE:GREGORIAN
BEGIN:VEVENT
SUMMARY:PILATES ÉVOLUTION SOLIDAIRE en ligne
DTSTART;TZID=Europe/Paris:20260423T090000
DTEND;TZID=Europe/Paris:20260423T093000
LOCATION:Happy Shala
DESCRIPTION: Pilates Évolution solidaire en ligne sur donation libre  dont la moitié est reversée à une association 
Vidéo de 40 minutes envoyée le jeudi matin  Dispo 7 jours / règlement par virement ou directement au shala  (rib envoyé avec la vidéo)
STATUS:CONFIRMED
SEQUENCE:0
END:VEVENT
END:VCALENDAR