BEGIN:VCALENDAR
VERSION:2.0
CALSCALE:GREGORIAN
BEGIN:VEVENT
SUMMARY:Pre/Post natal combo summer class
DTSTART;TZID=Europe/Brussels:20240722T120000
DTEND;TZID=Europe/Brussels:20240722T130000
LOCATION:Avenue de Tervuren 62
DESCRIPTION: A one-hour class for pre and postnatal. Don&#039;t worry, we will make sure we meet everyone&#039;s needs.
STATUS:CONFIRMED
SEQUENCE:0
END:VEVENT
END:VCALENDAR