BEGIN:VCALENDAR
VERSION:2.0
CALSCALE:GREGORIAN
BEGIN:VEVENT
SUMMARY:Mum &amp; Baby Pilates
DTSTART;TZID=Europe/London:20260518T134500
DTEND;TZID=Europe/London:20260518T143000
LOCATION:The Wellbeing Hub
DESCRIPTION: A 45 minute class designed for mums with a cup of tea and a biscuit afterwards.
STATUS:CONFIRMED
SEQUENCE:0
END:VEVENT
END:VCALENDAR