BEGIN:VCALENDAR
VERSION:2.0
CALSCALE:GREGORIAN
BEGIN:VEVENT
SUMMARY:Intermediate Pilates
DTSTART;TZID=Europe/London:20260416T183000
DTEND;TZID=Europe/London:20260416T191500
LOCATION:The Wellbeing Hub
DESCRIPTION: 
STATUS:CONFIRMED
SEQUENCE:0
END:VEVENT
END:VCALENDAR