BEGIN:VCALENDAR
VERSION:2.0
CALSCALE:GREGORIAN
BEGIN:VEVENT
SUMMARY:*NEW* Lunchtime Beginners&#039; Iyengar Yoga - Foundation Course
DTSTART;TZID=Europe/London:20191017T123000
DTEND;TZID=Europe/London:20191017T133000
LOCATION:The Courtyard, Crickhowell NP8 1BZ
DESCRIPTION: A 1-hour class for those new to Yoga, Iyengar Yoga or returning after some time. We will focus on the basics of Iyengar Yoga progressively and step by step with a 6-week foundation course starting 17th October. This class will then become an ongoing Beginners class.
STATUS:CONFIRMED
SEQUENCE:0
END:VEVENT
END:VCALENDAR