BEGIN:VCALENDAR
VERSION:2.0
CALSCALE:GREGORIAN
BEGIN:VEVENT
SUMMARY:Yoga Integral con DEBLA
DTSTART;TZID=Europe/Madrid:20260331T181500
DTEND;TZID=Europe/Madrid:20260331T193000
LOCATION:Espacio Chandra Sala
DESCRIPTION: .
STATUS:CONFIRMED
SEQUENCE:0
END:VEVENT
END:VCALENDAR