BEGIN:VCALENDAR
VERSION:2.0
CALSCALE:GREGORIAN
BEGIN:VEVENT
SUMMARY:Yoga doux
DTSTART;TZID=Europe/Paris:20260428T195000
DTEND;TZID=Europe/Paris:20260428T210000
LOCATION:Cabinet d&#039;oestéo Simard, 15 rue René Bazin à Saint-Barthélemy-d&#039;Anjou (proche Hôtel de Ville)
DESCRIPTION: Libérer ses tensions et se ressourcer
STATUS:CONFIRMED
SEQUENCE:0
END:VEVENT
END:VCALENDAR