BEGIN:VCALENDAR
VERSION:2.0
CALSCALE:GREGORIAN
BEGIN:VEVENT
SUMMARY:Private Group
DTSTART;TZID=Australia/Brisbane:20260415T161500
DTEND;TZID=Australia/Brisbane:20260415T171500
LOCATION:Essence Studio
DESCRIPTION: Yoga Private Class
STATUS:CONFIRMED
SEQUENCE:0
END:VEVENT
END:VCALENDAR