BEGIN:VCALENDAR
VERSION:2.0
CALSCALE:GREGORIAN
BEGIN:VEVENT
SUMMARY:Wednesday Hatha 5:30pm
DTSTART;TZID=Indian/Mauritius:20260401T173000
DTEND;TZID=Indian/Mauritius:20260401T183000
LOCATION:Est-Sens Studio
DESCRIPTION: A grounded and steady practice, focusing on awareness, alignment and strength. 
Open to all levels.
STATUS:CONFIRMED
SEQUENCE:0
END:VEVENT
END:VCALENDAR