BEGIN:VCALENDAR
VERSION:2.0
CALSCALE:GREGORIAN
BEGIN:VEVENT
SUMMARY:All Levels
DTSTART;TZID=America/New_York:20260319T180000
DTEND;TZID=America/New_York:20260319T190000
LOCATION:Woodstock CT
DESCRIPTION: Join our Tuesday and Thursday evening All-Levels classes, as Tracy expertly guides you with her thoughtful approach, Tracy brings out the best in every student – don&#039;t miss your chance to experience it, as space is limited!

(Please RSVP for your session 30 minutes or more before the start time)
STATUS:CONFIRMED
SEQUENCE:0
END:VEVENT
END:VCALENDAR