BEGIN:VCALENDAR
VERSION:2.0
CALSCALE:GREGORIAN
BEGIN:VEVENT
SUMMARY:Vinyasa krama, level 2, Panos
DTSTART;TZID=Europe/Athens:20230410T183000
DTEND;TZID=Europe/Athens:20230410T200000
LOCATION:Exarchia
DESCRIPTION: 
STATUS:CONFIRMED
SEQUENCE:0
END:VEVENT
END:VCALENDAR