BEGIN:VCALENDAR
VERSION:2.0
CALSCALE:GREGORIAN
BEGIN:VEVENT
SUMMARY:Hatha flow &amp; restore (PL) Ambiorix
DTSTART;TZID=Europe/Brussels:20251129T100000
DTEND;TZID=Europe/Brussels:20251129T111500
LOCATION:Ambiorix 7
DESCRIPTION: Jeśli czujesz, że potrzeba Ci więcej równowagi i odprężenia po stresującym czasie, ta praktyka jest dla Ciebie! Łączy ona elementy płynnego flow oraz solidną dawką kolącej jogi restoratywnej. Po zajęciach będzie Ci towarzyszyć poczucie harmonii i wewnętrznego spokoju, a ciało będzie zregenerowane i pełne energii.

Zajęcia odpowiednie dla wszystkich poziomów, także początkujących.
STATUS:CONFIRMED
SEQUENCE:0
END:VEVENT
END:VCALENDAR