BEGIN:VCALENDAR
VERSION:2.0
CALSCALE:GREGORIAN
BEGIN:VEVENT
SUMMARY:Yoga auf dem Stuhl Nachholstunde
DTSTART;TZID=Europe/Berlin:20251110T103000
DTEND;TZID=Europe/Berlin:20251110T114500
LOCATION:Experience Your Self
DESCRIPTION: 
STATUS:CONFIRMED
SEQUENCE:0
END:VEVENT
END:VCALENDAR