BEGIN:VCALENDAR
VERSION:2.0
CALSCALE:GREGORIAN
BEGIN:VEVENT
SUMMARY:Koningswandeling, 12 kilometer
DTSTART;TZID=Europe/Amsterdam:20220427T093000
DTEND;TZID=Europe/Amsterdam:20220427T123000
LOCATION:Startlocatie parkeerplaats Duinvermaak Bergen
DESCRIPTION: De Koningswandeling in Bergen

Op Koningsdag organiseert Faasse Fit de Koningswandeling in Bergen. We wandelen de Oranje of heide route. Deze wandeling gaat langs bos en hei, door duin en del.
We komen verschillende landschappen tegen. We zien heide, sprookjesachtig eikenbos en dennenbos. Dit is een wandeling van enkele uren, waarin we door een gevarieerd landschap lopen. Het gebied bevindt zich op de grens met de Schoorlse Duinen, een deel van de wandeling loopt letterlijk op de grens. Als je goed oplet, ziet je het verschil in beheer met PWN: de bomen bij Staatsbosbeheer zijn van andere soorten dan in het Noordhollands Duinreservaat. We komen verder nog langs een aantal uitkijkduinen. Hier nemen we de tijd om te genieten van het uitzicht.
We zien veel heide tijdens deze wandeling. Heide gedijt op kalkarme grond en komt daarom verder zuidelijk, richting Egmond, vrijwel niet meer voor. Het Bergerbos is in beheer bij waterleidingbedrijf PWN. Het is een mooi oud parkbos dat dicht tegen het dorp Bergen ligt. Het huidige Bergerbos staat als buitenplaats al aangegeven op een kaart uit 1662. Veel streeknamen hebben het woord “Rus” in zich. In 1799 vond de Slag bij Castricum plaats, waarbij veel Russen zijn omgekomen.
De poelen waar we langslopen is een eldorado voor larven, insecten en een drenk- en wasplaats van vogels.
STATUS:CONFIRMED
SEQUENCE:0
END:VEVENT
END:VCALENDAR