BEGIN:VCALENDAR
VERSION:2.0
CALSCALE:GREGORIAN
BEGIN:VEVENT
SUMMARY:Cours de yoga à Pilab 🧚🏼‍♂️
DTSTART;TZID=Europe/Paris:20260430T141500
DTEND;TZID=Europe/Paris:20260430T151500
LOCATION:03 avenue Marx Dormoy, 63000 Clermont Ferrand
DESCRIPTION: On se retrouve chez Pilab, à Vichy, tous les jeudis 14h15 15h15 ✨
Réservation via ce lien :
STATUS:CONFIRMED
SEQUENCE:0
END:VEVENT
END:VCALENDAR