BEGIN:VCALENDAR
VERSION:2.0
CALSCALE:GREGORIAN
BEGIN:VEVENT
SUMMARY:Detox Ontspanningsmassage
DTSTART;TZID=Europe/Amsterdam:20260327T113000
DTEND;TZID=Europe/Amsterdam:20260327T114500
LOCATION:nader te bepalen
DESCRIPTION: Deze sessie helpt je om je hormonale balans te ondersteunen met een combinatie van leefstijlcoaching en ontspanning. We kijken samen naar jouw energieniveau, stressmanagement en beweging. Deze sessie kan worden gecombineerd met manuele lymfedrainage, een zachte massage die zorgt voor diepe ontspanning en het afvoeren van afvalstoffen.
STATUS:CONFIRMED
SEQUENCE:0
END:VEVENT
END:VCALENDAR