BEGIN:VCALENDAR
VERSION:2.0
CALSCALE:GREGORIAN
BEGIN:VEVENT
SUMMARY:Kinderyoga
DTSTART;TZID=Europe/Brussels:20250427T103000
DTEND;TZID=Europe/Brussels:20250427T203500
LOCATION:Op&#039;t Heeseinde OF Yogazolder Tessenderlo
DESCRIPTION: 
STATUS:CONFIRMED
SEQUENCE:0
END:VEVENT
END:VCALENDAR