BEGIN:VCALENDAR
VERSION:2.0
CALSCALE:GREGORIAN
BEGIN:VEVENT
SUMMARY:Pilates. LET OP: deze les vindt buiten plaats zie whatsapp.
DTSTART;TZID=Europe/Amsterdam:20190624T190000
DTEND;TZID=Europe/Amsterdam:20190624T195000
LOCATION:&#039;S Gravenzande
DESCRIPTION: Pilates
STATUS:CONFIRMED
SEQUENCE:0
END:VEVENT
END:VCALENDAR