BEGIN:VCALENDAR
VERSION:2.0
CALSCALE:GREGORIAN
BEGIN:VEVENT
SUMMARY:Pilates Zomer Rooster Noord-Scharwoude Met Antoinet
DTSTART;TZID=Europe/Amsterdam:20230804T090000
DTEND;TZID=Europe/Amsterdam:20230804T100000
LOCATION:Noord-Scharwoude
DESCRIPTION: Pilates les bij Studio ToFlow, Noord-Scharwoude. Deze zomer gaan we werken met een zomer rooster. Voor het eerst gaan we niet helemaal sluiten. Kies deze Pilates les. Om deze zomer wat kracht op te bouwen. En daar pluk je de vruchten weer van na de zomer in de yoga lessen! Probeer het eens?! FlexYourMind!
STATUS:CONFIRMED
SEQUENCE:0
END:VEVENT
END:VCALENDAR