BEGIN:VCALENDAR
VERSION:2.0
CALSCALE:GREGORIAN
BEGIN:VEVENT
SUMMARY:Yoga op de Golfbaan
DTSTART;TZID=Europe/Amsterdam:20230707T183000
DTEND;TZID=Europe/Amsterdam:20230707T210000
LOCATION:Golfbaan in Winkel
DESCRIPTION: Special Yoga 
Ga mee naar buiten, en doe mee met deze Yin special XL op de Golfbaan in Winkel. Geniet van meditatie in de buitenlucht Yoga op het zachte gras van de golfbaan. En daarna een drankje met hapje op het terras. 
Een heerlijke Yoga avond. 
I.v.m het weer schrijf je je in, maar betaal je de €30,- op de locatie. Met regen gaat het niet door. Maar we gaan voor een mooie zomer avond!
STATUS:CONFIRMED
SEQUENCE:0
END:VEVENT
END:VCALENDAR