BEGIN:VCALENDAR
VERSION:2.0
CALSCALE:GREGORIAN
BEGIN:VEVENT
SUMMARY:Día festivo (no hay clase)
DTSTART;TZID=America/Mexico_City:20230406T193000
DTEND;TZID=America/Mexico_City:20230406T210000
LOCATION:FIY
DESCRIPTION: Semana Santa
STATUS:CONFIRMED
SEQUENCE:0
END:VEVENT
END:VCALENDAR