BEGIN:VCALENDAR
VERSION:2.0
CALSCALE:GREGORIAN
BEGIN:VEVENT
SUMMARY:Módulo 3 certificación
DTSTART;TZID=America/Mexico_City:20230128T083000
DTEND;TZID=America/Mexico_City:20230128T100000
LOCATION:FIY
DESCRIPTION: No hay clase regular
STATUS:CONFIRMED
SEQUENCE:0
END:VEVENT
END:VCALENDAR