BEGIN:VCALENDAR
VERSION:2.0
CALSCALE:GREGORIAN
BEGIN:VEVENT
SUMMARY:Módulo 6 certificación
DTSTART;TZID=America/Mexico_City:20230429T083000
DTEND;TZID=America/Mexico_City:20230429T100000
LOCATION:FIY
DESCRIPTION: No hay clase regular
STATUS:CONFIRMED
SEQUENCE:0
END:VEVENT
END:VCALENDAR