BEGIN:VCALENDAR
VERSION:2.0
CALSCALE:GREGORIAN
BEGIN:VEVENT
SUMMARY:yin
DTSTART;TZID=America/Los_Angeles:20240731T110000
DTEND;TZID=America/Los_Angeles:20240731T114500
LOCATION:forest moon yoga
DESCRIPTION: yin yoga is a slow-paced style of yoga incorporating principles of Traditional Chinese Medicine with poses that are held for longer periods of time (3-5 min.).
STATUS:CONFIRMED
SEQUENCE:0
END:VEVENT
END:VCALENDAR