BEGIN:VCALENDAR
VERSION:2.0
CALSCALE:GREGORIAN
BEGIN:VEVENT
SUMMARY:private class for IQ
DTSTART;TZID=America/Los_Angeles:20240617T183000
DTEND;TZID=America/Los_Angeles:20240617T194500
LOCATION:forest moon yoga
DESCRIPTION: 45min hatha class followed by 30min restorative
STATUS:CONFIRMED
SEQUENCE:0
END:VEVENT
END:VCALENDAR