BEGIN:VCALENDAR
VERSION:2.0
CALSCALE:GREGORIAN
BEGIN:VEVENT
SUMMARY:Yoga
DTSTART;TZID=Europe/Paris:20240628T104500
DTEND;TZID=Europe/Paris:20240628T114500
LOCATION:Carquefou
DESCRIPTION: Cours de Hatha-Yoga
Débutants et intermédiaires
Salle côté puits - site des renaudières la Fleuriaye à Carquefou
STATUS:CONFIRMED
SEQUENCE:0
END:VEVENT
END:VCALENDAR