BEGIN:VCALENDAR
VERSION:2.0
CALSCALE:GREGORIAN
BEGIN:VEVENT
SUMMARY:Sunset Outdoor Flow
DTSTART;TZID=America/Paramaribo:20220905T183000
DTEND;TZID=America/Paramaribo:20220905T193000
LOCATION:Skelterbaan
DESCRIPTION: Join us for an energizing session underneath the palm trees at Skelterbaan (Paramaribo south) on this Monday 🇸🇷🌴

Fee SRD 200

*If it rains, we also have a covered area on the property to flow underneath
STATUS:CONFIRMED
SEQUENCE:0
END:VEVENT
END:VCALENDAR