BEGIN:VCALENDAR
VERSION:2.0
CALSCALE:GREGORIAN
BEGIN:VEVENT
SUMMARY:108 Sun Salutations
DTSTART;TZID=America/Paramaribo:20220901T183000
DTEND;TZID=America/Paramaribo:20220901T193000
LOCATION:Free Flow Studio
DESCRIPTION: Join us as we flow through 108 Sun Salutations (Surya Namaskar A) as we close out the studio for the summer. Stay for tea. 

You don&#039;t need to do all 108. Points for trying. Extra points for providing moral support 🙂

*Free to join
STATUS:CONFIRMED
SEQUENCE:0
END:VEVENT
END:VCALENDAR