BEGIN:VCALENDAR
VERSION:2.0
CALSCALE:GREGORIAN
BEGIN:VEVENT
SUMMARY:Sunday Outdoor Flow
DTSTART;TZID=America/Paramaribo:20230115T080000
DTEND;TZID=America/Paramaribo:20230115T090000
LOCATION:Skelterbaan
DESCRIPTION: 
STATUS:CONFIRMED
SEQUENCE:0
END:VEVENT
END:VCALENDAR