BEGIN:VCALENDAR
VERSION:2.0
CALSCALE:GREGORIAN
BEGIN:VEVENT
SUMMARY:Full Moon Sunset Flow
DTSTART;TZID=America/Paramaribo:20230206T181500
DTEND;TZID=America/Paramaribo:20230206T191500
LOCATION:Skelterbaan
DESCRIPTION: Join us this Full Moon for a dynamic sunset flow under the palm trees.
STATUS:CONFIRMED
SEQUENCE:0
END:VEVENT
END:VCALENDAR