BEGIN:VCALENDAR
VERSION:2.0
CALSCALE:GREGORIAN
BEGIN:VEVENT
SUMMARY:Dynamic Flow
DTSTART;TZID=America/Paramaribo:20230330T181500
DTEND;TZID=America/Paramaribo:20230330T191500
LOCATION:Free Flow Studio
DESCRIPTION: A powerful flow to break a sweat and increase blood flow. This class focuses on building strength through a sequence of movements. ALL LEVELS
STATUS:CONFIRMED
SEQUENCE:0
END:VEVENT
END:VCALENDAR