BEGIN:VCALENDAR
VERSION:2.0
CALSCALE:GREGORIAN
BEGIN:VEVENT
SUMMARY:Ademles
DTSTART;TZID=Europe/Amsterdam:20220411T190000
DTEND;TZID=Europe/Amsterdam:20220411T203000
LOCATION:FRIS &amp; VITAAL
DESCRIPTION: Er worden specifieke ademtechnieken gedaan, om je zelf vrij van spanning en stress te ademen. Zodat er voldoende zuurstof naar je cellen stroomt, waardoor je cellen gevoed worden. Goed ademen, zorgt voor een optimale gezondheid.
STATUS:CONFIRMED
SEQUENCE:0
END:VEVENT
END:VCALENDAR