BEGIN:VCALENDAR
VERSION:2.0
CALSCALE:GREGORIAN
BEGIN:VEVENT
SUMMARY:Vinyasa Flow (All Levels)
DTSTART;TZID=Europe/London:20200105T081500
DTEND;TZID=Europe/London:20200105T091500
LOCATION:Hidden Retreat Studio
DESCRIPTION: A flowing yoga class to build strength and flexibility. Postures are synchronised with the breath to create a supple body, a clear mind and a deep sense of wellbeing.
STATUS:CONFIRMED
SEQUENCE:0
END:VEVENT
END:VCALENDAR