BEGIN:VCALENDAR
VERSION:2.0
CALSCALE:GREGORIAN
BEGIN:VEVENT
SUMMARY:Yoga Wellbeing Morning
DTSTART;TZID=Europe/London:20200229T083000
DTEND;TZID=Europe/London:20200229T120000
LOCATION:The Barn at Berryfields, Meriden
DESCRIPTION: 75 minutes of flowing yoga, including a long relaxation, followed by a delicious brunch overlooking rolling countryside. Suitable for all - including beginners. After brunch we&#039;ll be joined by Vicki Gotham, a Registered Nutritional Therapist and doTERRA Essential Oils Wellness Advocate, to deliver a Make and Take Chakra workshop where you can create your own chakra balancing blend of essential oils in a roller ball to take home with you.
STATUS:CONFIRMED
SEQUENCE:0
END:VEVENT
END:VCALENDAR