BEGIN:VCALENDAR
VERSION:2.0
CALSCALE:GREGORIAN
BEGIN:VEVENT
SUMMARY:⏰ Virtual Wake up and Flow (all levels)
DTSTART;TZID=Europe/London:20200610T071500
DTEND;TZID=Europe/London:20200610T080000
LOCATION:Online - via Zoom
DESCRIPTION: Join me online for 45 minutes of flowing movement to build strength and flexibility. Postures are synchronised with the breath to create a supple body, a clear mind and a deep sense of wellbeing to set you up for your day.
STATUS:CONFIRMED
SEQUENCE:0
END:VEVENT
END:VCALENDAR