BEGIN:VCALENDAR
VERSION:2.0
CALSCALE:GREGORIAN
BEGIN:VEVENT
SUMMARY:💻 On Demand Virtual vinyasa
DTSTART;TZID=Europe/London:20200607T200000
DTEND;TZID=Europe/London:20200607T210000
LOCATION:Online - via Zoom
DESCRIPTION: Book onto this class and you&#039;ll be sent a link to a recorded class (via zoom) to do at any time during the week!
STATUS:CONFIRMED
SEQUENCE:0
END:VEVENT
END:VCALENDAR