BEGIN:VCALENDAR
VERSION:2.0
CALSCALE:GREGORIAN
BEGIN:VEVENT
SUMMARY:On demand Virtual vinyasa
DTSTART;TZID=Europe/London:20200621T200000
DTEND;TZID=Europe/London:20200621T210000
LOCATION:Online - via Zoom
DESCRIPTION: Book onto this class and you&#039;ll be sent a link to a recorded class (via zoom) to do at any time during the week!
STATUS:CONFIRMED
SEQUENCE:0
END:VEVENT
END:VCALENDAR