BEGIN:VCALENDAR
VERSION:2.0
CALSCALE:GREGORIAN
BEGIN:VEVENT
SUMMARY:Garden yoga
DTSTART;TZID=Europe/London:20200716T180000
DTEND;TZID=Europe/London:20200716T190000
LOCATION:Hidden Retreat Studio
DESCRIPTION: 60 minutes of flowing yoga outdoors (weather permitting). The class will be socially distanced and in keeping with current government guidance. Please bring your own mat if possible.
STATUS:CONFIRMED
SEQUENCE:0
END:VEVENT
END:VCALENDAR