BEGIN:VCALENDAR
VERSION:2.0
CALSCALE:GREGORIAN
BEGIN:VEVENT
SUMMARY:Slow Flow Yoga with Lisa &quot;Big Ball&quot;
DTSTART;TZID=America/New_York:20240605T090000
DTEND;TZID=America/New_York:20240605T100000
LOCATION:Full Distance at Mariners Landing
DESCRIPTION: Explore intentional movement as you move in and out of your poses with your slowed breath. Pause in poses to ensure good alignment so you stay safe and strong. Invite greater flexibility, balance, and connections.
STATUS:CONFIRMED
SEQUENCE:0
END:VEVENT
END:VCALENDAR