BEGIN:VCALENDAR
VERSION:2.0
CALSCALE:GREGORIAN
BEGIN:VEVENT
SUMMARY:Chair Yoga w/ Lisa
DTSTART;TZID=America/New_York:20241213T093000
DTEND;TZID=America/New_York:20241213T103000
LOCATION:The Centre at Mariners Landing
DESCRIPTION: Invite greater balance and stability as you choose to use a chair (or not) in seated and standing Slow Flow Yoga poses. Move slowly in and our of poses with your intentional breath. Increase balance, coordination, strength, and flexibility.
STATUS:CONFIRMED
SEQUENCE:0
END:VEVENT
END:VCALENDAR