BEGIN:VCALENDAR
VERSION:2.0
CALSCALE:GREGORIAN
BEGIN:VEVENT
SUMMARY:Chair Yoga w/ Lisa &quot;Hoops &amp; Blocks&quot;
DTSTART;TZID=America/New_York:20250110T093000
DTEND;TZID=America/New_York:20250110T103000
LOCATION:The Centre at Mariners Landing
DESCRIPTION: Incorporate blocks into your yoga practice for greater leg strength. Use small hoops in seated poses to improve range of motion in the back and shoulders. Then, invite greater balance as you incorporate physical therapy&#039;s stepping strategy. Step over, through, and around blocks and different sized hoops for improved balance and play. Use a chair in seated poses for greater stability. Use a chair if you want in standing poses and exercises for better balance.
STATUS:CONFIRMED
SEQUENCE:0
END:VEVENT
END:VCALENDAR