BEGIN:VCALENDAR
VERSION:2.0
CALSCALE:GREGORIAN
BEGIN:VEVENT
SUMMARY:Strength Circuit (Complimentary for Mariners Landing Owners/ Members)
DTSTART;TZID=America/New_York:20240617T151500
DTEND;TZID=America/New_York:20240617T160000
LOCATION:Full Distance at The Centre in Mariners Landing
DESCRIPTION: HIIT (High Intensity Interval Training) with strength exercises. Get the best of both worlds with cardio and strength training at the same time.
STATUS:CONFIRMED
SEQUENCE:0
END:VEVENT
END:VCALENDAR