BEGIN:VCALENDAR
VERSION:2.0
CALSCALE:GREGORIAN
BEGIN:VEVENT
SUMMARY:Atelier Yoga enfants : 4-8 ans
DTSTART;TZID=Europe/Paris:20250521T103000
DTEND;TZID=Europe/Paris:20250521T111500
LOCATION:Studio Chouette
DESCRIPTION: Pour vous inscrire contacter directement le Studio Chouette :)
Sur place : 4 rue du Clos Saint-Amour à Besançon
Par téléphone : 03 70 50 01 05
Par e-mail : info@studio-chouette.fr
Via Instagram : studiochouette_besancon
STATUS:CONFIRMED
SEQUENCE:0
END:VEVENT
END:VCALENDAR