BEGIN:VCALENDAR
VERSION:2.0
CALSCALE:GREGORIAN
BEGIN:VEVENT
SUMMARY:Julehvilen (2 timer)
DTSTART;TZID=Europe/Oslo:20221209T100000
DTEND;TZID=Europe/Oslo:20221209T120000
LOCATION:Garasjen PT og Yoga, Eidsbakkane 68 Kopervik
DESCRIPTION: Her skal vi finne roen både i kropp og sinn. Vi gjør noen dynamiske og milde øvelser for å øke sirkulasjonen i kroppen etterfulgt av restorative øvelser som vi holder mellom 4-6 minutter. Vi avslutter med en lang avspenning, Yoga Nidra. Smoothie inkl.
STATUS:CONFIRMED
SEQUENCE:0
END:VEVENT
END:VCALENDAR