BEGIN:VCALENDAR
VERSION:2.0
CALSCALE:GREGORIAN
BEGIN:VEVENT
SUMMARY:Yogaflyt
DTSTART;TZID=Europe/Oslo:20230207T180000
DTEND;TZID=Europe/Oslo:20230207T191500
LOCATION:Garasjen PT og Yoga, Eidsbakkane 68 Kopervik
DESCRIPTION: 
STATUS:CONFIRMED
SEQUENCE:0
END:VEVENT
END:VCALENDAR