BEGIN:VCALENDAR
VERSION:2.0
CALSCALE:GREGORIAN
BEGIN:VEVENT
SUMMARY:PT i gruppe
DTSTART;TZID=Europe/Oslo:20230222T184500
DTEND;TZID=Europe/Oslo:20230222T194500
LOCATION:Garasjen PT og Yoga, Eidsbakkane 68 Kopervik
DESCRIPTION: 
STATUS:CONFIRMED
SEQUENCE:0
END:VEVENT
END:VCALENDAR