BEGIN:VCALENDAR
VERSION:2.0
CALSCALE:GREGORIAN
BEGIN:VEVENT
SUMMARY:Yoga &amp; Lunch
DTSTART;TZID=Europe/Amsterdam:20230901T093000
DTEND;TZID=Europe/Amsterdam:20230901T130000
LOCATION:Waaslandlaan 8C, Lokeren
DESCRIPTION: We vieren het einde van de zomer met een yoga &amp;amp; lunch sessie. Verwacht je aan leuke yogahoudingen en ontspanningstechnieken die gericht zijn op het ontspannen van de rug, schouders en nek. Afsluiten doen we met een gezonde lunch. 

De workshop gaat door vanaf 5 deelnemers. Toegankelijk voor zowel beginners als gevorderden.
Reservering – en annuleringsbeleid:
•	De workshop dient op voorhand betaald te worden. 
•	Kan je er toch niet bij zijn? Gelieve uiterlijk 48u voor aanvang van de workshop te annuleren. Een late annulering of no-show zal worden geteld als aanwezigheid.
STATUS:CONFIRMED
SEQUENCE:0
END:VEVENT
END:VCALENDAR