BEGIN:VCALENDAR
VERSION:2.0
CALSCALE:GREGORIAN
BEGIN:VEVENT
SUMMARY:Reeks flowyoga - thema: een reis door het lichaam
DTSTART;TZID=Europe/Amsterdam:20230907T190000
DTEND;TZID=Europe/Amsterdam:20230907T201500
LOCATION:Waaslandlaan 8C, Lokeren
DESCRIPTION: 
STATUS:CONFIRMED
SEQUENCE:0
END:VEVENT
END:VCALENDAR