BEGIN:VCALENDAR
VERSION:2.0
CALSCALE:GREGORIAN
BEGIN:VEVENT
SUMMARY:Outdoor Yoga at Naas Tennis Club
DTSTART;TZID=Europe/Dublin:20210801T103000
DTEND;TZID=Europe/Dublin:20210801T113000
LOCATION:Naas Tennis Club, Naas
DESCRIPTION: Multi-level Yoga &amp; Flow
STATUS:CONFIRMED
SEQUENCE:0
END:VEVENT
END:VCALENDAR